BEGIN:VCALENDAR
VERSION:2.0
METHOD:PUBLISH
PRODID:-//Telerik Inc.//Sitefinity CMS 15.3//EN
BEGIN:VTIMEZONE
TZID:Eastern Standard Time
BEGIN:STANDARD
DTSTART:20251102T020000
RRULE:FREQ=YEARLY;BYDAY=1SU;BYHOUR=2;BYMINUTE=0;BYMONTH=11
TZNAME:Eastern Standard Time
TZOFFSETFROM:-0400
TZOFFSETTO:-0500
END:STANDARD
BEGIN:DAYLIGHT
DTSTART:20250301T020000
RRULE:FREQ=YEARLY;BYDAY=2SU;BYHOUR=2;BYMINUTE=0;BYMONTH=3
TZNAME:Eastern Daylight Time
TZOFFSETFROM:-0500
TZOFFSETTO:-0400
END:DAYLIGHT
END:VTIMEZONE
BEGIN:VEVENT
DESCRIPTION:Join fellow marketing professionals for an interactive conversa
 tion designed exclusively for our mentorship community.Understanding Indus
 try Trends: AI in Marketing – The New Era of DiscoveryMarketing discovery 
 has evolved beyond reaching people – now you need to reach the algorithms 
 and AI agents that influence their decisions. Join us to explore how AI vi
 sibility is transforming marketing strategy and learn practical approaches
  for optimizing your brand for this new reality.Session highlights:How AI 
 agents are changing the discovery landscapeStrategies for improving your b
 rand's AI visibilityQ&amp\;A with our expert facilitatorWhether you're jus
 t beginning to explore AI's impact on marketing or looking to refine your 
 approach\, this session will provide valuable insights into preparing your
  marketing strategy for the AI-driven future.
DTEND:20260429T170000Z
DTSTAMP:20260422T004422Z
DTSTART:20260429T160000Z
LOCATION:
SEQUENCE:0
SUMMARY:(Virtual) CMA Fireside Chat with Dave Burnett
UID:RFCALITEM639124010624077835
X-ALT-DESC;FMTTYPE=text/html:<p data-pm-slice="1 1 []"><strong>Join fellow 
 marketing professionals for an interactive conversation designed exclusive
 ly for our mentorship community.</strong><br></p><p>Understanding Industry
  Trends: AI in Marketing – The New Era of Discovery<br></p><p>Marketing di
 scovery has evolved beyond reaching people – now you need to reach the alg
 orithms and AI agents that influence their decisions. Join us to explore h
 ow AI visibility is transforming marketing strategy and learn practical ap
 proaches for optimizing your brand for this new reality.<br></p><p>Session
  highlights:</p><ul class="bulletList"><li>How AI agents are changing the 
 discovery landscape</li><li>Strategies for improving your brand's AI visib
 ility</li><li>Q&amp\;A with our expert facilitator<br></li></ul><p><br>Whe
 ther you're just beginning to explore AI's impact on marketing or looking 
 to refine your approach\, this session will provide valuable insights into
  preparing your marketing strategy for the AI-driven future.</p>
END:VEVENT
END:VCALENDAR
